BEGIN:VCALENDAR
VERSION:2.0
PRODID:-//Fairhope Chocolate - ECPv6.15.20//NONSGML v1.0//EN
CALSCALE:GREGORIAN
METHOD:PUBLISH
X-ORIGINAL-URL:https://fairhopechocolate.com
X-WR-CALDESC:Events for Fairhope Chocolate
REFRESH-INTERVAL;VALUE=DURATION:PT1H
X-Robots-Tag:noindex
X-PUBLISHED-TTL:PT1H
BEGIN:VTIMEZONE
TZID:UTC
BEGIN:STANDARD
TZOFFSETFROM:+0000
TZOFFSETTO:+0000
TZNAME:UTC
DTSTART:20240101T000000
END:STANDARD
END:VTIMEZONE
BEGIN:VEVENT
DTSTART;VALUE=DATE:20251001
DTEND;VALUE=DATE:20251101
DTSTAMP:20260425T215618
CREATED:20231018T153707Z
LAST-MODIFIED:20250512T180455Z
UID:2662-1759276800-1761955199@fairhopechocolate.com
SUMMARY:Wizarding Month: Wizards\, Goblins\, and Ghouls at Fairhope Chocolate
DESCRIPTION:Photo Booth\, Props\, & Frames. Robes\, Wands\, and House Scarves. Featuring items such as Wizarding Dipped Pretzel Wands\, Chocolate Frogs\, Spider Cupcakes\, Butterbeer and MORE.  \nLet the fun begin!!! \n  \n 
URL:https://fairhopechocolate.com/event/wizarding-month-wizards-goblins-and-ghouls-at-fairhope-chocolate/
LOCATION:Fairhope Chocolate\, 403 Fairhope Avenue\, Fairhope\, AL\, 36532\, United States
CATEGORIES:Fairhope Chocolate
ATTACH;FMTTYPE=image/png:https://fairhopechocolate.com/wp-content/uploads/2023/10/wizardMonth.png
END:VEVENT
END:VCALENDAR